BEGIN:VCALENDAR
VERSION:2.0
PRODID:-//www.dostal-partner.de - ECPv6.15.20//NONSGML v1.0//EN
CALSCALE:GREGORIAN
METHOD:PUBLISH
X-WR-CALNAME:www.dostal-partner.de
X-ORIGINAL-URL:https://www.dostal-partner.de
X-WR-CALDESC:Veranstaltungen für www.dostal-partner.de
REFRESH-INTERVAL;VALUE=DURATION:PT1H
X-Robots-Tag:noindex
X-PUBLISHED-TTL:PT1H
BEGIN:VTIMEZONE
TZID:UTC
BEGIN:STANDARD
TZOFFSETFROM:+0000
TZOFFSETTO:+0000
TZNAME:UTC
DTSTART:20250101T000000
END:STANDARD
END:VTIMEZONE
BEGIN:VEVENT
DTSTART;TZID=UTC:20260421T100000
DTEND;TZID=UTC:20260421T120000
DTSTAMP:20260421T011711
CREATED:20260202T093329Z
LAST-MODIFIED:20260202T093329Z
UID:10740-1776765600-1776772800@www.dostal-partner.de
SUMMARY:🏥 Gründung kommunaler Medizinischer Versorgungszentren – Online-Seminar
DESCRIPTION:🏥 Online-Seminar:\nGründung kommunaler Medizinischer Versorgungszentren – Grundlagen & Erfolgsfaktoren\n📅 Termin: 21. April 2026\n⏳ Dauer: 10:00 – 12:00 Uhr\n💻 Ort: Online\n💰 Teilnahmegebühr: 279 € zzgl. MwSt. \n🔍 Seminarinhalt\nImmer mehr Kommunen setzen auf kommunale Medizinische Versorgungszentren (MVZ)\, um die Gesundheitsversorgung langfristig zu sichern. Doch wie sieht der Weg von der Idee bis zur erfolgreichen Inbetriebnahme aus? In diesem kompakten Seminar geben wir Ihnen konkrete Einblicke in den Gründungsprozess\, klären rechtliche Rahmenbedingungen und zeigen erfolgreiche Praxisbeispiele auf. \n\n📌 Programmüberblick\n1️⃣ Einführung & Überblick (ca. 10 Min.)\n\nWarum setzen immer mehr Kommunen auf ein eigenes MVZ?\nChancen & Herausforderungen kommunaler MVZ\n\n2️⃣ Rechtsformen & Organisationsstrukturen (ca. 25 Min.)\n\nMögliche Rechtsformen für kommunale MVZ: Vor- & Nachteile\nInterne Struktur & Organisation: Was gilt es zu beachten?\nBesonderheiten bei interkommunalen Gründungen\n\n3️⃣ Sicherheit & Aufsicht (ca. 20 Min.)\n\nSicherheitsleistungen gegenüber der Kassenärztlichen Vereinigung (KV)\nWelche Gesetzesänderungen sind zu erwarten?\nAnforderungen der Kommunalaufsicht an ein kommunales MVZ\n\n4️⃣ Gründung & Zulassung (ca. 25 Min.)\n\nZeitlicher Ablauf & Ressourcenplanung: Wie lange dauert die Gründung?\nKV-Zulassung & rechtliche Stolperfallen vermeiden\nErfolgreiche Inbetriebnahme & Geschäftsführung: Wer übernimmt welche Verantwortung?\n\n5️⃣ Wirtschaftlichkeit & Finanzierungsmodelle (ca. 20 Min.)\n\nKosten & Fördermöglichkeiten für Kommunen\nFinanzielle Entwicklung in der Startphase\nWann amortisieren sich die Investitionen?\n\n6️⃣ Best-Practice & Praxisbeispiele (ca. 20 Min.)\n\nKommunale MVZ\, die bereits erfolgreich arbeiten\nErfahrungen & Lehren aus vergangenen Gründungen\n\n7️⃣ Offene Fragerunde (ca. 20 Min.)\n\nIhre Fragen zur Gründung\, Zulassung und Finanzierung\n\n\n🎤 Durch das Programm führt Sie:\nFrau Gabriele Dostal (Prokuristin dostal & partner) \n📲 Jetzt anmelden!\n🔗 Anmeldung & Infos: \n	Hinweis: Für diesen Inhalt ist JavaScript erforderlich.
URL:https://www.dostal-partner.de/event/%f0%9f%8f%a5-gruendung-kommunaler-medizinischer-versorgungszentren-online-seminar/
CATEGORIES:Ärztemangel & Sonstiges
ORGANIZER;CN="Dostal & Partner":MAILTO:info@dostal-partner.de
END:VEVENT
END:VCALENDAR