BEGIN:VCALENDAR
VERSION:2.0
PRODID:-//www.dostal-partner.de - ECPv6.15.20//NONSGML v1.0//EN
CALSCALE:GREGORIAN
METHOD:PUBLISH
X-ORIGINAL-URL:https://www.dostal-partner.de
X-WR-CALDESC:Veranstaltungen für www.dostal-partner.de
REFRESH-INTERVAL;VALUE=DURATION:PT1H
X-Robots-Tag:noindex
X-PUBLISHED-TTL:PT1H
BEGIN:VTIMEZONE
TZID:Europe/Berlin
BEGIN:DAYLIGHT
TZOFFSETFROM:+0100
TZOFFSETTO:+0200
TZNAME:CEST
DTSTART:20230326T010000
END:DAYLIGHT
BEGIN:STANDARD
TZOFFSETFROM:+0200
TZOFFSETTO:+0100
TZNAME:CET
DTSTART:20231029T010000
END:STANDARD
BEGIN:DAYLIGHT
TZOFFSETFROM:+0100
TZOFFSETTO:+0200
TZNAME:CEST
DTSTART:20240331T010000
END:DAYLIGHT
BEGIN:STANDARD
TZOFFSETFROM:+0200
TZOFFSETTO:+0100
TZNAME:CET
DTSTART:20241027T010000
END:STANDARD
BEGIN:DAYLIGHT
TZOFFSETFROM:+0100
TZOFFSETTO:+0200
TZNAME:CEST
DTSTART:20250330T010000
END:DAYLIGHT
BEGIN:STANDARD
TZOFFSETFROM:+0200
TZOFFSETTO:+0100
TZNAME:CET
DTSTART:20251026T010000
END:STANDARD
END:VTIMEZONE
BEGIN:VEVENT
DTSTART;TZID=Europe/Berlin:20240130T133000
DTEND;TZID=Europe/Berlin:20240130T153000
DTSTAMP:20260423T123550
CREATED:20230729T072823Z
LAST-MODIFIED:20230729T072823Z
UID:3508-1706621400-1706628600@www.dostal-partner.de
SUMMARY:Wie gründe und betreibe ich einen Gesundheitskiosk? – Online-Seminar
DESCRIPTION:Kernfakten – Finanzierung – Nutzer – Beispiele aus der Praxis – Gründung  – Betrieb\nWas erwartet Sie?\n\nDer Gesundheitskiosk im Überblick\nWas sind die Auslöser für dieses neuartige ambulante Versorgungsmodell?\nWer sind die Nutzer bzw. die Zielgruppen?\nWas ist bei der Standortwahl zu beachten?\nWer sind die Fördergeber und Financiers? Mit welchen Akteuren und Leistungserbringern muss beim Aufbau zusammengearbeitet werden?\nWas sind die bisher gewonnen Erkenntnisse aus den bestehenden Modellprojekten?\nWie gestaltet sich der Aufbauprozess? Wie viel Zeit und Ressourcen sind hierfür notwendig? Ist externe Unterstützung empfehlenswert?\nWas ist für eine reibungslose Inbetriebnahme erforderlich? Wer übernimmt die Gründungsbegleitung und Moderation während der Projektphase?\n\nZielsetzung des Seminars\n\nSie haben einen Überblick über die Entstehungsgeschichte und Zielsetzungen des Gesundheitskiosks.\nSie lernen die dahinterstehende Philosophie kennen.\nSie können die Realisierbarkeit bezogen auf Ihre Kommune bzw. Ihren Stadtteil abschätzen.\nIhnen werden die Kennzahlen anhand derer eine Standortwahl getroffen werden sollte vermittelt.\nSie erkennen Schwächen und Stärken des Gesundheitskiosks im Regelbetrieb..\nSie haben Klarheit über die finanzielle Tragfähigkeit sowie mögliche Förderungen.\nIhnen ist bewusst geworden\, bei welchen Prozessen und Tätigkeiten Sie externe Unterstützung benötigen.\nSie wissen\, welche Schritte zum Projektstart erfolgen müssen.\nSie haben das Ziel einer zukunftsfesten\, integrierten und alle Bevölkerungsgruppen umfassende medizinische Versorgung in Ihrer Kommune konkret als Vision vor Augen.\n\nAblauf: \n13:30 – 15:30 Uhr \nDurch das Programm führt Sie:\nFrau Gabriele Dostal (Projektleiterin Versorgungsforschung und -sicherung)\n\n	Hinweis: Für diesen Inhalt ist JavaScript erforderlich.
URL:https://www.dostal-partner.de/event/wie-gruende-und-betreibe-ich-einen-gesundheitskiosk-online-seminar-2/
CATEGORIES:Ärztemangel & Sonstiges
ORGANIZER;CN="Dostal & Partner":MAILTO:info@dostal-partner.de
END:VEVENT
END:VCALENDAR